BEGIN:VCALENDAR
VERSION:2.0
PRODID:-//ACT - The Association for Cruise Tourism - ECPv6.15.3//NONSGML v1.0//EN
CALSCALE:GREGORIAN
METHOD:PUBLISH
X-WR-CALNAME:ACT - The Association for Cruise Tourism
X-ORIGINAL-URL:https://actcayman.com
X-WR-CALDESC:Events for ACT - The Association for Cruise Tourism
REFRESH-INTERVAL;VALUE=DURATION:PT1H
X-Robots-Tag:noindex
X-PUBLISHED-TTL:PT1H
BEGIN:VTIMEZONE
TZID:UTC
BEGIN:STANDARD
TZOFFSETFROM:+0000
TZOFFSETTO:+0000
TZNAME:UTC
DTSTART:20240101T000000
END:STANDARD
END:VTIMEZONE
BEGIN:VEVENT
DTSTART;TZID=UTC:20250425T180000
DTEND;TZID=UTC:20250425T200000
DTSTAMP:20260423T144910
CREATED:20250423T192627Z
LAST-MODIFIED:20250424T013107Z
UID:6025-1745604000-1745611200@actcayman.com
SUMMARY:It's The Final Countdown
DESCRIPTION:It’s The Final Countdown \nCayman\, Let’s Talk Cruise Piers – Before April 30! \nACT Presents\nFinal Town Hall Meeting \nFRIDAY\,  APRIL 25\, 2025\n6:00 PM – 7:00 PM: Networking Reception with food and refreshments.\n7:00 PM: Presentation and Discussion \nGrand Cayman Marriott \nACT\nThe Association for Cruise Tourism\nCayman Islands
URL:https://actcayman.com/event/its-the-final-countdown/
LOCATION:Grand Cayman Marriott
ATTACH;FMTTYPE=image/png:https://actcayman.com/wp-content/uploads/2025/04/Screenshot-2025-04-23-at-3.28.24 PM.png
END:VEVENT
BEGIN:VEVENT
DTSTART;TZID=UTC:20250203T180000
DTEND;TZID=UTC:20250203T200000
DTSTAMP:20260423T144910
CREATED:20250131T232736Z
LAST-MODIFIED:20250131T232751Z
UID:5743-1738605600-1738612800@actcayman.com
SUMMARY:PIER PRESSURE
DESCRIPTION:Pier Pressure \nLet’s Push for Progress! \nACT Presents\nFourth Meeting on the Importance of Cruise Tourism \nMONDAY\, FEBRUARY 3\, 2025\n6:00 PM – 7:00 PM: Networking Reception with food and refreshments.\n7:00 PM: Presentation and Discussion \nChurch of God Chapel Bodden Town \nACT\nThe Association for Cruise Tourism\nCayman Islands
URL:https://actcayman.com/event/pier-pressure/
LOCATION:Church of God Chapel Bodden Town
ATTACH;FMTTYPE=image/jpeg:https://actcayman.com/wp-content/uploads/2025/01/Townhall-Invite-Feb-3-2025-copy-2-scaled-e1738365892881.jpg
END:VEVENT
BEGIN:VEVENT
DTSTART;TZID=UTC:20250121T180000
DTEND;TZID=UTC:20250121T200000
DTSTAMP:20260423T144910
CREATED:20250120T191539Z
LAST-MODIFIED:20250203T055359Z
UID:5713-1737482400-1737489600@actcayman.com
SUMMARY:A PIER OR PERIL?
DESCRIPTION:The Hard Truth About Cayman’s Cruise Tourism Industry \nACT Presents\nThird Meeting on the Importance of Cruise Tourism \nTUESDAY\, JANUARY 21\, 2025\n6:00 PM – 7:00 PM: Networking Reception with food and refreshments.\n7:00 PM: Presentation and Discussion \nWilliam Allen McLaughlin Civic Centre\nEast End \nACT\nThe Association for Cruise Tourism\nCayman Islands
URL:https://actcayman.com/event/a-pier-or-peril/
LOCATION:William Allen McLaughlin Civic Centre\, East End
ATTACH;FMTTYPE=image/png:https://actcayman.com/wp-content/uploads/2025/01/event-act-min.png
END:VEVENT
BEGIN:VEVENT
DTSTART;TZID=UTC:20250114T061500
DTEND;TZID=UTC:20250114T091500
DTSTAMP:20260423T144910
CREATED:20250108T164602Z
LAST-MODIFIED:20250108T172742Z
UID:5545-1736835300-1736846100@actcayman.com
SUMMARY:THE TRUTH WILL SET YOU FREE
DESCRIPTION:There’s an ocean of misinformation out there. \nTUESDAY JANUARY 14\, 2025\n6:15 PM – 7:15 PM: Networking Reception with Food and Refreshments\n7:15 PM – 9:15 PM: Presentation and Discussion \nTown Hall (West Bay)\nJohn Cumber Primary School Hall
URL:https://actcayman.com/event/the-truth-will-set-you-free/
LOCATION:Town Hall (West Bay)\, John Cumber Primary School Hall
ATTACH;FMTTYPE=image/jpeg:https://actcayman.com/wp-content/uploads/2025/01/events.jpg
END:VEVENT
BEGIN:VEVENT
DTSTART;TZID=UTC:20241212T081500
DTEND;TZID=UTC:20241212T094500
DTSTAMP:20260423T144910
CREATED:20241211T195124Z
LAST-MODIFIED:20241212T152102Z
UID:4544-1733991300-1733996700@actcayman.com
SUMMARY:SUPPORT CRUISE TOURISM
DESCRIPTION:Let’s come together to demonstrate to our government the importance of this industry for our community and future. \nRefreshments\, snacks\, and signs will be provided. \nYour presence makes a difference\, and we truly appreciate your support. We look forward to seeing you at Heroes Square on Thursday morning! \nTOGETHER\, LET’S SAY YES TO CRUISE TOURISM!
URL:https://actcayman.com/event/support-cruise-tourism/
LOCATION:Heroes Square (in front of Parliament) George Town
ATTACH;FMTTYPE=image/jpeg:https://actcayman.com/wp-content/uploads/2024/12/Meeting-Ad-copy-1.jpg
END:VEVENT
END:VCALENDAR